BEGIN:VCALENDAR
PRODID:-//SMW Project//Semantic Result Formats
VERSION:2.0
METHOD:PUBLISH
X-WR-CALNAME:Special:Ask/-5B-5B:1.-20Large-20Hackerspace-20Convention-20(LHC)-5D-5D/-3FHas-20PageName=/-3FStartDate=start/-3FEndDate=end/format=icalendar/offset=0
BEGIN:VEVENT
SUMMARY:1. Large Hackerspace Convention (LHC)
URL://wiki.syn2cat.lu/wiki/1._Large_Hackerspace_Convention_(LHC)
UID://wiki.syn2cat.lu/wiki/1._Large_Hackerspace_Convention_(LHC)
DTSTART:20100827T000000
DTEND:20100829T000000
DTSTAMP:20120519T180126
SEQUENCE:18937
END:VEVENT
END:VCALENDAR
