BEGIN:VCALENDAR
PRODID:-//SMW Project//Semantic Result Formats
VERSION:2.0
METHOD:PUBLISH
X-WR-CALNAME:Special:Ask/-5B-5B:Ars-20Electronica-202010-5D-5D/-3FHas-20PageName=/-3FStartDate=start/-3FEndDate=end/format=icalendar/offset=0
BEGIN:VEVENT
SUMMARY:Ars Electronica 2010
URL://wiki.syn2cat.lu/wiki/Ars_Electronica_2010
UID://wiki.syn2cat.lu/wiki/Ars_Electronica_2010
DTSTART:20100902T000000
DTEND:20100911T000000
DTSTAMP:20100831T180143
SEQUENCE:8701
END:VEVENT
END:VCALENDAR
