BEGIN:VCALENDAR
PRODID:-//SMW Project//Semantic Result Formats
VERSION:2.0
METHOD:PUBLISH
X-WR-CALNAME:Special:Ask/-5B-5B:Be-20e-2Dsecure:-20Threats,-20Vulnerabilities,-20Impacts-5D-5D/-3FHas-20PageName=/-3FStartDate=start/-3FEndDate=end/format=icalendar/offset=0
BEGIN:VEVENT
SUMMARY:Be e-secure: Threats, Vulnerabilities, Impacts
URL://wiki.syn2cat.lu/wiki/Be_e-secure:_Threats,_Vulnerabilities,_Impacts
UID://wiki.syn2cat.lu/wiki/Be_e-secure:_Threats,_Vulnerabilities,_Impacts
DTSTART:20100914T183000
DTEND:20100914T213000
DTSTAMP:20100916T100819
SEQUENCE:9033
END:VEVENT
END:VCALENDAR
