BEGIN:VCALENDAR
PRODID:-//SMW Project//Semantic Result Formats
VERSION:2.0
METHOD:PUBLISH
X-WR-CALNAME:Special:Ask/-5B-5B:Bootstrap-20Meeting-5D-5D/-3FHas-20PageName=/-3FStartDate=start/-3FEndDate=end/format=icalendar/offset=0
BEGIN:VEVENT
SUMMARY:Bootstrap Meeting
URL://wiki.syn2cat.lu/wiki/Bootstrap_Meeting
UID://wiki.syn2cat.lu/wiki/Bootstrap_Meeting
DTSTART:20100320T190000
DTEND:20120609T235900
DTSTAMP:20160217T090213
SEQUENCE:22610
END:VEVENT
END:VCALENDAR
