BEGIN:VCALENDAR
PRODID:-//SMW Project//Semantic Result Formats
VERSION:2.0
METHOD:PUBLISH
X-WR-CALNAME:Special:Ask/-5B-5B:BruCON-202010-5D-5D/-3FHas-20PageName=/-3FStartDate=start/-3FEndDate=end/format=icalendar/offset=0
BEGIN:VEVENT
SUMMARY:BruCON 2010
URL://wiki.syn2cat.lu/wiki/BruCON_2010
UID://wiki.syn2cat.lu/wiki/BruCON_2010
DTSTART:20100924T090000
DTEND:20100925T200000
DTSTAMP:20100924T114300
SEQUENCE:9380
END:VEVENT
END:VCALENDAR
