BEGIN:VCALENDAR
PRODID:-//SMW Project//Semantic Result Formats
VERSION:2.0
METHOD:PUBLISH
X-WR-CALNAME:Special:Ask/-5B-5B:CPMF-20-26-2334;Hackers-26-2334;-20edition-5D-5D/-3FHas-20PageName=/-3FStartDate=start/-3FEndDate=end/format=icalendar/offset=0
BEGIN:VEVENT
SUMMARY:CPMF "Hackers" edition
URL://wiki.syn2cat.lu/wiki/CPMF_%22Hackers%22_edition
UID://wiki.syn2cat.lu/wiki/CPMF_%22Hackers%22_edition
DTSTART:20101001T210000
DTEND:20101002T020000
DTSTAMP:20101001T120553
SEQUENCE:9825
END:VEVENT
END:VCALENDAR
