BEGIN:VCALENDAR
PRODID:-//SMW Project//Semantic Result Formats
VERSION:2.0
METHOD:PUBLISH
X-WR-CALNAME:Special:Ask/-5B-5B:Days-20of-20Decluttering-5D-5D/-3FHas-20PageName=/-3FStartDate=start/-3FEndDate=end/format=icalendar/offset=0
BEGIN:VEVENT
SUMMARY:Days of Decluttering
URL://wiki.syn2cat.lu/wiki/Days_of_Decluttering
UID://wiki.syn2cat.lu/wiki/Days_of_Decluttering
DTSTART:20100903T180000
DTEND:20100912T130000
DTSTAMP:20100907T144814
SEQUENCE:8900
END:VEVENT
END:VCALENDAR
