BEGIN:VCALENDAR
PRODID:-//SMW Project//Semantic Result Formats
VERSION:2.0
METHOD:PUBLISH
X-WR-CALNAME:Special:Ask/-5B-5B:Defcon18-5D-5D/-3FHas-20PageName=/-3FStartDate=start/-3FEndDate=end/format=icalendar/offset=0
BEGIN:VEVENT
SUMMARY:Defcon18
URL://wiki.syn2cat.lu/wiki/Defcon18
UID://wiki.syn2cat.lu/wiki/Defcon18
DTSTART:20100729T000000
DTEND:20100801T000000
DTSTAMP:20100504T124434
SEQUENCE:8142
END:VEVENT
END:VCALENDAR
