BEGIN:VCALENDAR
PRODID:-//SMW Project//Semantic Result Formats
VERSION:2.0
METHOD:PUBLISH
X-WR-CALNAME:Special:Ask/-5B-5B:Eth0:2010-20summer-5D-5D/-3FHas-20PageName=/-3FStartDate=start/-3FEndDate=end/format=icalendar/offset=0
BEGIN:VEVENT
SUMMARY:Eth0:2010 summer
URL://wiki.syn2cat.lu/wiki/Eth0:2010_summer
UID://wiki.syn2cat.lu/wiki/Eth0:2010_summer
DTSTART:20100810T000000
DTEND:20100813T000000
DTSTAMP:20100423T134311
SEQUENCE:7938
END:VEVENT
END:VCALENDAR
