BEGIN:VCALENDAR
PRODID:-//SMW Project//Semantic Result Formats
VERSION:2.0
METHOD:PUBLISH
X-WR-CALNAME:Special:Ask/-5B-5B:Evoke-202010-5D-5D/-3FHas-20PageName=/-3FStartDate=start/-3FEndDate=end/format=icalendar/offset=0
BEGIN:VEVENT
SUMMARY:Evoke 2010
URL://wiki.syn2cat.lu/wiki/Evoke_2010
UID://wiki.syn2cat.lu/wiki/Evoke_2010
DTSTART:20100827T000000
DTEND:20100829T000000
DTSTAMP:20100504T123819
SEQUENCE:8137
END:VEVENT
END:VCALENDAR
