BEGIN:VCALENDAR
PRODID:-//SMW Project//Semantic Result Formats
VERSION:2.0
METHOD:PUBLISH
X-WR-CALNAME:Special:Ask/-5B-5B:ICMP-205-5D-5D/-3FHas-20PageName=/-3FStartDate=start/-3FEndDate=end/format=icalendar/offset=0
BEGIN:VEVENT
SUMMARY:ICMP 5
URL://wiki.syn2cat.lu/wiki/ICMP_5
UID://wiki.syn2cat.lu/wiki/ICMP_5
DTSTART:20100812T000000
DTEND:20100817T000000
DTSTAMP:20100731T131334
SEQUENCE:8478
END:VEVENT
END:VCALENDAR
