BEGIN:VCALENDAR
PRODID:-//SMW Project//Semantic Result Formats
VERSION:2.0
METHOD:PUBLISH
X-WR-CALNAME:Special:Ask/-5B-5B:Labortage-202010-5D-5D/-3FHas-20PageName=/-3FStartDate=start/-3FEndDate=end/format=icalendar/offset=0
BEGIN:VEVENT
SUMMARY:Labortage 2010
URL://wiki.syn2cat.lu/wiki/Labortage_2010
UID://wiki.syn2cat.lu/wiki/Labortage_2010
DTSTART:20100821T000000
DTEND:20100824T000000
DTSTAMP:20100806T153440
SEQUENCE:8597
END:VEVENT
END:VCALENDAR
