BEGIN:VCALENDAR
PRODID:-//SMW Project//Semantic Result Formats
VERSION:2.0
METHOD:PUBLISH
X-WR-CALNAME:Special:Ask/-5B-5B:Minimal-20Data-20Disclosure-20Seminar-5D-5D/-3FHas-20PageName=/-3FStartDate=start/-3FEndDate=end/format=icalendar/offset=0
BEGIN:VEVENT
SUMMARY:Minimal Data Disclosure Seminar
URL://wiki.syn2cat.lu/wiki/Minimal_Data_Disclosure_Seminar
UID://wiki.syn2cat.lu/wiki/Minimal_Data_Disclosure_Seminar
DTSTART:20101005T150000
DTEND:20101005T180000
DTSTAMP:20100731T001125
SEQUENCE:8462
END:VEVENT
END:VCALENDAR
