BEGIN:VCALENDAR
PRODID:-//SMW Project//Semantic Result Formats
VERSION:2.0
METHOD:PUBLISH
X-WR-CALNAME:Special:Ask/-5B-5B:Researchers-20Night-202010-5D-5D/-3FHas-20PageName=/-3FStartDate=start/-3FEndDate=end/format=icalendar/offset=0
BEGIN:VEVENT
SUMMARY:Researchers Night 2010
URL://wiki.syn2cat.lu/wiki/Researchers_Night_2010
UID://wiki.syn2cat.lu/wiki/Researchers_Night_2010
DTSTART:20100924T140000
DTEND:20100924T210000
DTSTAMP:20100924T133723
SEQUENCE:9406
END:VEVENT
END:VCALENDAR
