BEGIN:VCALENDAR
PRODID:-//SMW Project//Semantic Result Formats
VERSION:2.0
METHOD:PUBLISH
X-WR-CALNAME:Special:Ask/-5B-5B:Sysadmin-20Appreciation-20Day-5D-5D/-3FHas-20PageName=/-3FStartDate=start/-3FEndDate=end/format=icalendar/offset=0
BEGIN:VEVENT
SUMMARY:Sysadmin Appreciation Day
URL://wiki.syn2cat.lu/wiki/Sysadmin_Appreciation_Day
UID://wiki.syn2cat.lu/wiki/Sysadmin_Appreciation_Day
DTSTART:20100730T000000
DTEND:20100730T120000
DTSTAMP:20100728T100120
SEQUENCE:8442
END:VEVENT
END:VCALENDAR
