BEGIN:VCALENDAR
PRODID:-//SMW Project//Semantic Result Formats
VERSION:2.0
METHOD:PUBLISH
X-WR-CALNAME:Special:Ask/-5B-5B:Voidwarranties-20Opening-5D-5D/-3FHas-20PageName=/-3FStartDate=start/-3FEndDate=end/format=icalendar/offset=0
BEGIN:VEVENT
SUMMARY:Voidwarranties Opening
URL://wiki.syn2cat.lu/wiki/Voidwarranties_Opening
UID://wiki.syn2cat.lu/wiki/Voidwarranties_Opening
DTSTART:20100807T103000
DTEND:20100807T220000
DTSTAMP:20100728T133235
SEQUENCE:8446
END:VEVENT
END:VCALENDAR
