BEGIN:VCALENDAR
PRODID:-//SMW Project//Semantic Result Formats
VERSION:2.0
METHOD:PUBLISH
X-WR-CALNAME:Special:Ask/-5B-5B:Wireless-20Battle-20Mesh-20v3.141592-5D-5D/-3FHas-20PageName=/-3FStartDate=start/-3FEndDate=end/format=icalendar/offset=0
BEGIN:VEVENT
SUMMARY:Wireless Battle Mesh v3.141592
URL://wiki.syn2cat.lu/wiki/Wireless_Battle_Mesh_v3.141592
UID://wiki.syn2cat.lu/wiki/Wireless_Battle_Mesh_v3.141592
DTSTART:20100903T000000
DTEND:20100905T000000
DTSTAMP:20100803T215822
SEQUENCE:8571
END:VEVENT
END:VCALENDAR
